BEGIN:VCALENDAR
VERSION:2.0
PRODID:-//zukunft-talcenter.de - ECPv6.15.20//NONSGML v1.0//EN
CALSCALE:GREGORIAN
METHOD:PUBLISH
X-ORIGINAL-URL:https://zukunft-talcenter.de
X-WR-CALDESC:Veranstaltungen für zukunft-talcenter.de
REFRESH-INTERVAL;VALUE=DURATION:PT1H
X-Robots-Tag:noindex
X-PUBLISHED-TTL:PT1H
BEGIN:VTIMEZONE
TZID:Europe/Berlin
BEGIN:DAYLIGHT
TZOFFSETFROM:+0100
TZOFFSETTO:+0200
TZNAME:CEST
DTSTART:20250330T010000
END:DAYLIGHT
BEGIN:STANDARD
TZOFFSETFROM:+0200
TZOFFSETTO:+0100
TZNAME:CET
DTSTART:20251026T010000
END:STANDARD
BEGIN:DAYLIGHT
TZOFFSETFROM:+0100
TZOFFSETTO:+0200
TZNAME:CEST
DTSTART:20260329T010000
END:DAYLIGHT
BEGIN:STANDARD
TZOFFSETFROM:+0200
TZOFFSETTO:+0100
TZNAME:CET
DTSTART:20261025T010000
END:STANDARD
BEGIN:DAYLIGHT
TZOFFSETFROM:+0100
TZOFFSETTO:+0200
TZNAME:CEST
DTSTART:20270328T010000
END:DAYLIGHT
BEGIN:STANDARD
TZOFFSETFROM:+0200
TZOFFSETTO:+0100
TZNAME:CET
DTSTART:20271031T010000
END:STANDARD
END:VTIMEZONE
BEGIN:VEVENT
DTSTART;VALUE=DATE:20260308
DTEND;VALUE=DATE:20260309
DTSTAMP:20260422T121525
CREATED:20260225T050244Z
LAST-MODIFIED:20260228T212549Z
UID:518-1772928000-1773014399@zukunft-talcenter.de
SUMMARY:Internationaler Frauentag
DESCRIPTION:Internationaler Frauentag\, Weltfrauentag oder Frauentag sind Namen eines Welttags\, der jährlich am 8. März gefeiert wird. Er entstand als Initiative sozialistischer Organisationen in der Zeit vor dem Ersten Weltkrieg im Kampf um die Gleichberechtigung\, das Wahlrecht für Frauen sowie die Emanzipation von Arbeiterinnen. \nQuelle: Wikipedia \n(Nur gesetzlicher Feiertag in Berlin und Mecklenburg-Vorpommern)
URL:https://zukunft-talcenter.de/aktivitaeten/internationaler-frauentag/
LOCATION:Berlin
CATEGORIES:Berliner Feiertage
END:VEVENT
END:VCALENDAR