BEGIN:VCALENDAR
VERSION:2.0
PRODID:-//zukunft-talcenter.de - ECPv6.15.20//NONSGML v1.0//EN
CALSCALE:GREGORIAN
METHOD:PUBLISH
X-WR-CALNAME:zukunft-talcenter.de
X-ORIGINAL-URL:https://zukunft-talcenter.de
X-WR-CALDESC:Veranstaltungen für zukunft-talcenter.de
REFRESH-INTERVAL;VALUE=DURATION:PT1H
X-Robots-Tag:noindex
X-PUBLISHED-TTL:PT1H
BEGIN:VTIMEZONE
TZID:Europe/Berlin
BEGIN:DAYLIGHT
TZOFFSETFROM:+0100
TZOFFSETTO:+0200
TZNAME:CEST
DTSTART:20250330T010000
END:DAYLIGHT
BEGIN:STANDARD
TZOFFSETFROM:+0200
TZOFFSETTO:+0100
TZNAME:CET
DTSTART:20251026T010000
END:STANDARD
BEGIN:DAYLIGHT
TZOFFSETFROM:+0100
TZOFFSETTO:+0200
TZNAME:CEST
DTSTART:20260329T010000
END:DAYLIGHT
BEGIN:STANDARD
TZOFFSETFROM:+0200
TZOFFSETTO:+0100
TZNAME:CET
DTSTART:20261025T010000
END:STANDARD
BEGIN:DAYLIGHT
TZOFFSETFROM:+0100
TZOFFSETTO:+0200
TZNAME:CEST
DTSTART:20270328T010000
END:DAYLIGHT
BEGIN:STANDARD
TZOFFSETFROM:+0200
TZOFFSETTO:+0100
TZNAME:CET
DTSTART:20271031T010000
END:STANDARD
END:VTIMEZONE
BEGIN:VEVENT
DTSTART;VALUE=DATE:20260406
DTEND;VALUE=DATE:20260407
DTSTAMP:20260422T120952
CREATED:20260228T031638Z
LAST-MODIFIED:20260228T031638Z
UID:549-1775433600-1775519999@zukunft-talcenter.de
SUMMARY:Ostermontag
DESCRIPTION:Der Ostermontag ist der zweite Feiertag des Osterfestes und setzt die Feierlichkeiten zur Auferstehung Jesu Christi fort. Im Mittelpunkt steht die biblische Erzählung der Begegnung mit den Emmausjüngern. \nDie wichtigsten Fakten\n\nGesetzlicher Status: Im Gegensatz zum Ostersonntag ist der Ostermontag in allen deutschen Bundesländern ein gesetzlicher Feiertag. Geschäfte\, Schulen und Behörden bleiben geschlossen.\nReligiöse Bedeutung: Der Tag erinnert an zwei Jünger\, die auf dem Weg nach Emmaus dem auferstandenen Jesus begegneten\, ihn jedoch erst beim gemeinsamen Brotbrechen erkannten.\n\nBräuche und Traditionen\n\nEmmausgang: In Gedenken an den Weg der Jünger finden vielerorts (besonders in Süddeutschland und Österreich) gemeinschaftliche Wanderungen oder Prozessionen in die Natur statt.\nEierlauf und Eierlage: Regionale Wettläufe mit Eiern haben eine lange Tradition\, wie etwa der Eierlauf in Remlingen oder die Eierlage in Schöneck.\nGeorgiritt: In Traunstein findet am Ostermontag einer der größten Pferdewallfahrten Bayerns zu Ehren des Heiligen Georg statt.\nŚmigus-dyngus: Ein aus Polen stammender Brauch\, bei dem man sich gegenseitig mit Wasser bespritzt\, wird teilweise auch in Grenzregionen praktiziert.\n\nMit dem Ostermontag endet das verlängerte Osterwochenende\, während die kirchliche Osterzeit noch insgesamt 50 Tage bis Pfingsten andauert.
URL:https://zukunft-talcenter.de/aktivitaeten/ostermontag/
LOCATION:Berlin
CATEGORIES:Deutsche Feiertage
END:VEVENT
END:VCALENDAR