BEGIN:VCALENDAR
VERSION:2.0
PRODID:-//zukunft-talcenter.de - ECPv6.15.20//NONSGML v1.0//EN
CALSCALE:GREGORIAN
METHOD:PUBLISH
X-WR-CALNAME:zukunft-talcenter.de
X-ORIGINAL-URL:https://zukunft-talcenter.de
X-WR-CALDESC:Veranstaltungen für zukunft-talcenter.de
REFRESH-INTERVAL;VALUE=DURATION:PT1H
X-Robots-Tag:noindex
X-PUBLISHED-TTL:PT1H
BEGIN:VTIMEZONE
TZID:Europe/Berlin
BEGIN:DAYLIGHT
TZOFFSETFROM:+0100
TZOFFSETTO:+0200
TZNAME:CEST
DTSTART:20250330T010000
END:DAYLIGHT
BEGIN:STANDARD
TZOFFSETFROM:+0200
TZOFFSETTO:+0100
TZNAME:CET
DTSTART:20251026T010000
END:STANDARD
BEGIN:DAYLIGHT
TZOFFSETFROM:+0100
TZOFFSETTO:+0200
TZNAME:CEST
DTSTART:20260329T010000
END:DAYLIGHT
BEGIN:STANDARD
TZOFFSETFROM:+0200
TZOFFSETTO:+0100
TZNAME:CET
DTSTART:20261025T010000
END:STANDARD
BEGIN:DAYLIGHT
TZOFFSETFROM:+0100
TZOFFSETTO:+0200
TZNAME:CEST
DTSTART:20270328T010000
END:DAYLIGHT
BEGIN:STANDARD
TZOFFSETFROM:+0200
TZOFFSETTO:+0100
TZNAME:CET
DTSTART:20271031T010000
END:STANDARD
END:VTIMEZONE
BEGIN:VEVENT
DTSTART;TZID=Europe/Berlin:20260530T100000
DTEND;TZID=Europe/Berlin:20260530T150000
DTSTAMP:20260422T121156
CREATED:20260406T193510Z
LAST-MODIFIED:20260406T203508Z
UID:743-1780135200-1780153200@zukunft-talcenter.de
SUMMARY:Tag des offenen Rathauses (2026) Marzahn-Hellersdorf
DESCRIPTION:Am Samstag\, dem 30. Mai 2026\, öffnet das Rathaus Marzahn-Hellersdorf von 10 bis 15 Uhr bereits zum zweiten Mal seine Türen. Nach der erfolgreichen Premiere im vergangenen Jahr dürfen sich Besucherinnen und Besucher erneut auf einen abwechslungsreichen Tag rund um den Alice-Salomon-Platz am U-Bahnhof Hellersdorf freuen – dieses Mal mit noch mehr Angeboten\, Einblicken und Mitmachaktionen. \nAm Arbeitgeberstand können sich Interessierte über Karrierechancen in der Verwaltung informieren und Initiativbewerbungen abgeben. Ein Bewerbungsmappen-Check gibt hilfreiche Tipps zur Optimierung der eigenen Unterlagen\, während eine digitale Jobwall einen Überblick über aktuelle Stellenangebote bietet. \nAuch für Kinder und Familien ist wieder einiges dabei: Neben Ausmalbildern\, Kinderschminken und einem Glücksrad sorgt Fußball-Dart und ein Basketballkorb mit Coaches von den Basket Dragons Marzahn für Spaß und Bewegung. Für eine kleine Stärkung zwischendurch steht kostenloses Popcorn für unsere Besucherinnen und Besucher bereit. \nWer einen Blick hinter die Kulissen werfen möchte\, hat dazu ebenfalls Gelegenheit: Ein Einsatzfahrzeug des Ordnungsamtes sowie ein Messfahrzeug des Fachbereichs Stadtentwicklung stehen vor Ort zur Besichtigung bereit. Das Straßen- und Grünflächenamt (SGA) präsentiert nicht nur seine täglichen Arbeitsgeräte\, sondern demonstriert vor Ort auch anschaulich die fachgerechte Reparatur von Asphaltlöchern. \nDarüber hinaus besteht die Möglichkeit\, ganztägig das Büro der Bezirksbürgermeisterin zu besichtigen. \nKommen Sie vorbei und erleben Sie Ihr Rathaus hautnah!
URL:https://zukunft-talcenter.de/aktivitaeten/tag-des-offenen-rathauses-2026-marzahn-hellersdorf/
LOCATION:Berlin
CATEGORIES:Politik und Verwaltung
END:VEVENT
END:VCALENDAR