BEGIN:VCALENDAR
VERSION:2.0
PRODID:-//zukunft-talcenter.de - ECPv6.15.20//NONSGML v1.0//EN
CALSCALE:GREGORIAN
METHOD:PUBLISH
X-WR-CALNAME:zukunft-talcenter.de
X-ORIGINAL-URL:https://zukunft-talcenter.de
X-WR-CALDESC:Veranstaltungen für zukunft-talcenter.de
REFRESH-INTERVAL;VALUE=DURATION:PT1H
X-Robots-Tag:noindex
X-PUBLISHED-TTL:PT1H
BEGIN:VTIMEZONE
TZID:Europe/Berlin
BEGIN:DAYLIGHT
TZOFFSETFROM:+0100
TZOFFSETTO:+0200
TZNAME:CEST
DTSTART:20250330T010000
END:DAYLIGHT
BEGIN:STANDARD
TZOFFSETFROM:+0200
TZOFFSETTO:+0100
TZNAME:CET
DTSTART:20251026T010000
END:STANDARD
BEGIN:DAYLIGHT
TZOFFSETFROM:+0100
TZOFFSETTO:+0200
TZNAME:CEST
DTSTART:20260329T010000
END:DAYLIGHT
BEGIN:STANDARD
TZOFFSETFROM:+0200
TZOFFSETTO:+0100
TZNAME:CET
DTSTART:20261025T010000
END:STANDARD
BEGIN:DAYLIGHT
TZOFFSETFROM:+0100
TZOFFSETTO:+0200
TZNAME:CEST
DTSTART:20270328T010000
END:DAYLIGHT
BEGIN:STANDARD
TZOFFSETFROM:+0200
TZOFFSETTO:+0100
TZNAME:CET
DTSTART:20271031T010000
END:STANDARD
END:VTIMEZONE
BEGIN:VEVENT
DTSTART;TZID=Europe/Berlin:20260614T190000
DTEND;TZID=Europe/Berlin:20260614T210000
DTSTAMP:20260423T090024
CREATED:20260423T034516Z
LAST-MODIFIED:20260423T043535Z
UID:781-1781463600-1781470800@zukunft-talcenter.de
SUMMARY:Deutschland (DFB) - Curaçao (FFK)  [Gruppe E]
DESCRIPTION:Houston Stadium\, Texas\, USA \nSommer: Houston (CDT\, UTC-5) ist 7 Stunden hinter Deutschland (MESZ\, UTC+2).
URL:https://zukunft-talcenter.de/aktivitaeten/deutschland-dfb-curacao-ffk-gruppe-e/
LOCATION:Berlin
CATEGORIES:FIFA WM 2026
END:VEVENT
END:VCALENDAR